BEGIN:VCALENDAR
VERSION:2.0
PRODID:-//Calico Gymnastics Club - ECPv6.15.18//NONSGML v1.0//EN
CALSCALE:GREGORIAN
METHOD:PUBLISH
X-WR-CALNAME:Calico Gymnastics Club
X-ORIGINAL-URL:https://calicogymnastics.ca
X-WR-CALDESC:Events for Calico Gymnastics Club
REFRESH-INTERVAL;VALUE=DURATION:PT1H
X-Robots-Tag:noindex
X-PUBLISHED-TTL:PT1H
BEGIN:VTIMEZONE
TZID:UTC
BEGIN:STANDARD
TZOFFSETFROM:+0000
TZOFFSETTO:+0000
TZNAME:UTC
DTSTART:20250101T000000
END:STANDARD
END:VTIMEZONE
BEGIN:VEVENT
DTSTART;VALUE=DATE:20260130
DTEND;VALUE=DATE:20260131
DTSTAMP:20260419T182755
CREATED:20250820T232727Z
LAST-MODIFIED:20250820T232840Z
UID:63122-1769731200-1769817599@calicogymnastics.ca
SUMMARY:NO CLASSES
DESCRIPTION:No Classes today due to the 2026 Calico Invitational.
URL:https://calicogymnastics.ca/event/no-classes/
CATEGORIES:NO CLASSES
END:VEVENT
END:VCALENDAR